Index of /checkResults/release/data-experiment-LATEST/dorothea/raw-results
Name
Last modified
Size
Description
Parent Directory
-
info.dcf
08-May-2024 03:51
286
nebbiolo1/
08-May-2024 03:51
-