Back to Multiple platform build/check report for BioC 3.12 experimental data
ABC[D]EFGHIJKLMNOPQRSTUVWXYZ

Multiple platform build/check report for BioC 3.12 experimental data

Results for package dorothea

This page was generated on 2021-03-01 14:09:54 -0500 (Mon, 01 Mar 2021).

Package 99/398HostnameOS / ArchINSTALLBUILDCHECK
dorothea 1.2.1
Christian H. Holland
Snapshot Date: 2021-03-01 09:00:10 -0500 (Mon, 01 Mar 2021)
URL: https://git.bioconductor.org/packages/dorothea
Branch: RELEASE_3_12
Last Commit: 1242500
Last Changed Date: 2021-02-08 13:13:43 -0500 (Mon, 08 Feb 2021)
malbec1Linux (Ubuntu 18.04.5 LTS) / x86_64  OK    OK    OK  UNNEEDED, same version exists in internal repository
nebbiolo1Linux (Ubuntu 20.04.2 LTS) / x86_64  OK    OK    NA