Back to Build/check report for BioC 3.18 experimental data
AB[C]DEFGHIJKLMNOPQRSTUVWXYZ

This page was generated on 2024-02-27 14:52:00 -0500 (Tue, 27 Feb 2024).

HostnameOSArch (*)R versionInstalled pkgs
nebbiolo2Linux (Ubuntu 22.04.3 LTS)x86_644.3.2 Patched (2023-11-13 r85521) -- "Eye Holes" 4691
Click on any hostname to see more info about the system (e.g. compilers)      (*) as reported by 'uname -p', except on Windows and Mac OS X

Package 65/429HostnameOS / ArchINSTALLBUILDCHECK
cMap2data 1.38.0  (landing page)
J. Saez-Rodriguez
Snapshot Date: 2024-02-27 07:30:01 -0500 (Tue, 27 Feb 2024)
git_url: https://git.bioconductor.org/packages/cMap2data
git_branch: RELEASE_3_18
git_last_commit: 39393da
git_last_commit_date: 2023-10-24 09:05:02 -0500 (Tue, 24 Oct 2023)
nebbiolo2Linux (Ubuntu 22.04.3 LTS) / x86_64  OK    OK    WARNINGS  UNNEEDED, same version is already published

BUILD results for cMap2data on nebbiolo2


To the developers/maintainers of the cMap2data package:
- Use the following Renviron settings to reproduce errors and warnings.
- If 'R CMD check' started to fail recently on the Linux builder(s) over a missing dependency, add the missing dependency to 'Suggests:' in your DESCRIPTION file. See Renviron.bioc for more information.

raw results


Summary

Package: cMap2data
Version: 1.38.0
Command: /home/biocbuild/bbs-3.18-bioc/R/bin/R CMD build --keep-empty-dirs --no-resave-data cMap2data
StartedAt: 2024-02-27 10:19:20 -0500 (Tue, 27 Feb 2024)
EndedAt: 2024-02-27 10:19:47 -0500 (Tue, 27 Feb 2024)
EllapsedTime: 26.9 seconds
RetCode: 0
Status:   OK  
PackageFile: cMap2data_1.38.0.tar.gz
PackageFileSize: 27.85 MiB

Command output

##############################################################################
##############################################################################
###
### Running command:
###
###   /home/biocbuild/bbs-3.18-bioc/R/bin/R CMD build --keep-empty-dirs --no-resave-data cMap2data
###
##############################################################################
##############################################################################


* checking for file ‘cMap2data/DESCRIPTION’ ... OK
* preparing ‘cMap2data’:
* checking DESCRIPTION meta-information ... OK
* installing the package to build vignettes
* creating vignettes ... OK
* checking for LF line-endings in source and make files and shell scripts
* checking for empty or unneeded directories
* building ‘cMap2data_1.38.0.tar.gz’