Back to Multiple platform build/check report for BioC 3.12 experimental data
A[B]CDEFGHIJKLMNOPQRSTUVWXYZ

Multiple platform build/check report for BioC 3.12 experimental data

Results for breastCancerNKI

This page was generated on 2020-11-26 14:09:58 -0500 (Thu, 26 Nov 2020).

Package 36/398HostnameOS / ArchINSTALLBUILDCHECK
breastCancerNKI 1.28.0
Markus Schroeder , Benjamin Haibe-Kains
Snapshot Date: 2020-11-26 09:00:18 -0500 (Thu, 26 Nov 2020)
URL: https://git.bioconductor.org/packages/breastCancerNKI
Branch: RELEASE_3_12
Last Commit: 3cc1834
Last Changed Date: 2020-10-27 09:52:43 -0500 (Tue, 27 Oct 2020)
malbec1 Linux (Ubuntu 18.04.4 LTS) / x86_64  OK  OK  WARNINGS UNNEEDED, same version exists in internal repository
nebbiolo1 Linux (Ubuntu 20.04.1 LTS) / x86_64  OK  OK  WARNINGS