Index of /checkResults/release/data-experiment-LATEST/airway/raw-results
Name
Last modified
Size
Description
Parent Directory
-
info.dcf
31-May-2024 03:51
276
nebbiolo1/
31-May-2024 03:51
-