![]() | Name | Last modified | Size | Description |
---|---|---|---|---|
![]() | Parent Directory | - | ||
![]() | buildsrc-out.txt | 27-Sep-2023 03:51 | 865 | |
![]() | buildsrc-summary.dcf | 27-Sep-2023 03:51 | 414 | |
![]() | checksrc-out.txt | 27-Sep-2023 03:51 | 3.2K | |
![]() | checksrc-summary.dcf | 27-Sep-2023 03:51 | 415 | |
![]() | install-out.txt | 27-Sep-2023 03:51 | 899 | |
![]() | install-summary.dcf | 27-Sep-2023 03:51 | 257 | |