Index of /checkResults/release/data-experiment-LATEST/airway/raw-results

[ICO]NameLast modifiedSizeDescription

[DIR]Parent Directory  -  
[   ]info.dcf17-Mar-2023 03:50 276  
[DIR]nebbiolo2/17-Mar-2023 03:50 -