Index of /checkResults/release/data-experiment-LATEST/TargetScoreData/raw-results/nebbiolo1

[ICO]NameLast modifiedSizeDescription

[DIR]Parent Directory  -  
[TXT]buildsrc-out.txt01-Jul-2022 03:50 838  
[   ]buildsrc-summary.dcf01-Jul-2022 03:50 441  
[TXT]checksrc-out.txt01-Jul-2022 03:50 3.5K 
[   ]checksrc-summary.dcf01-Jul-2022 03:50 455  
[TXT]install-out.txt01-Jul-2022 03:50 971  
[   ]install-summary.dcf01-Jul-2022 03:50 274