Index of /checkResults/release/data-experiment-LATEST/TargetScoreData/raw-results

[ICO]NameLast modifiedSizeDescription

[DIR]Parent Directory  -  
[   ]info.dcf25-Nov-2021 08:35 281  
[DIR]nebbiolo2/25-Nov-2021 08:35 -