Back to Build/check report for BioC 3.13 experimental data
ABCDEFGHIJKLMNOPQRS[T]UVWXYZ

This page was generated on 2021-10-12 16:00:31 -0400 (Tue, 12 Oct 2021).

All results for package TargetScoreData

To the developers/maintainers of the TargetScoreData package:
Make sure to use the following settings in order to reproduce any error or warning you see on this page.

raw results

Package 371/406HostnameOS / ArchINSTALLBUILDCHECK
TargetScoreData 1.28.0  (landing page)
Yue Li
Snapshot Date: 2021-10-12 09:30:07 -0400 (Tue, 12 Oct 2021)
URL: https://git.bioconductor.org/packages/TargetScoreData
Branch: RELEASE_3_13
Last Commit: f7f830d
Last Changed Date: 2021-05-19 11:42:57 -0400 (Wed, 19 May 2021)
malbec2Linux (Ubuntu 20.04.2 LTS) / x86_64  OK    OK    OK  UNNEEDED, same version is already published