Index of /checkResults/release/data-experiment-LATEST/PWMEnrich.Mmusculus.background/raw-results

[ICO]NameLast modifiedSizeDescription

[DIR]Parent Directory  -  
[   ]info.dcf17-May-2024 03:51 316  
[DIR]nebbiolo1/17-May-2024 03:51 -