Index of /checkResults/release/data-experiment-LATEST/PWMEnrich.Mmusculus.background/raw-results/nebbiolo1

[ICO]NameLast modifiedSizeDescription

[DIR]Parent Directory  -  
[TXT]buildsrc-out.txt14-Jun-2024 03:51 889  
[   ]buildsrc-summary.dcf14-Jun-2024 03:51 485  
[TXT]checksrc-out.txt14-Jun-2024 03:51 2.9K 
[   ]checksrc-summary.dcf14-Jun-2024 03:51 505  
[TXT]install-out.txt14-Jun-2024 03:51 947  
[   ]install-summary.dcf14-Jun-2024 03:51 304