Index of /checkResults/release/data-experiment-LATEST/ListerEtAlBSseq/raw-results
Name
Last modified
Size
Description
Parent Directory
-
info.dcf
26-Jul-2024 03:51
288
nebbiolo1/
26-Jul-2024 03:51
-