Back to Build/check report for BioC 3.13 experimental data
ABCDEFGHIJK[L]MNOPQRSTUVWXYZ

This page was generated on 2021-09-23 16:00:11 -0400 (Thu, 23 Sep 2021).

All results for package ListerEtAlBSseq

To the developers/maintainers of the ListerEtAlBSseq package:
Make sure to use the following settings in order to reproduce any error or warning you see on this page.

raw results

Package 205/406HostnameOS / ArchINSTALLBUILDCHECK
ListerEtAlBSseq 1.24.0  (landing page)
Kamal Kishore
Snapshot Date: 2021-09-23 09:30:06 -0400 (Thu, 23 Sep 2021)
URL: https://git.bioconductor.org/packages/ListerEtAlBSseq
Branch: RELEASE_3_13
Last Commit: 17422e9
Last Changed Date: 2021-05-19 11:48:18 -0400 (Wed, 19 May 2021)
malbec2Linux (Ubuntu 20.04.2 LTS) / x86_64  OK    OK    WARNINGS  UNNEEDED, same version is already published