Back to Build/check report for BioC 3.14 experimental data
ABCDEFGHIJK[L]MNOPQRSTUVWXYZ

This page was generated on 2022-01-19 14:50:23 -0500 (Wed, 19 Jan 2022).

HostnameOSArch (*)R versionInstalled pkgs
nebbiolo2Linux (Ubuntu 20.04.4 LTS)x86_644.1.2 (2021-11-01) -- "Bird Hippie" 4329
Click on any hostname to see more info about the system (e.g. compilers)      (*) as reported by 'uname -p', except on Windows and Mac OS X

BUILD results for LiebermanAidenHiC2009 on nebbiolo2


To the developers/maintainers of the LiebermanAidenHiC2009 package:
Make sure to use the following settings in order to reproduce any error or warning you see on this page.

raw results

Package 199/408HostnameOS / ArchINSTALLBUILDCHECK
LiebermanAidenHiC2009 0.32.0  (landing page)
Felix Klein
Snapshot Date: 2022-01-19 07:30:01 -0500 (Wed, 19 Jan 2022)
git_url: https://git.bioconductor.org/packages/LiebermanAidenHiC2009
git_branch: RELEASE_3_14
git_last_commit: 35c0eb3
git_last_commit_date: 2021-10-26 11:47:00 -0500 (Tue, 26 Oct 2021)
nebbiolo2Linux (Ubuntu 20.04.4 LTS) / x86_64  OK    OK    WARNINGS  UNNEEDED, same version is already published

Summary

Package: LiebermanAidenHiC2009
Version: 0.32.0
Command: /home/biocbuild/bbs-3.14-bioc/R/bin/R CMD build --keep-empty-dirs --no-resave-data LiebermanAidenHiC2009
StartedAt: 2022-01-19 10:32:54 -0500 (Wed, 19 Jan 2022)
EndedAt: 2022-01-19 10:33:53 -0500 (Wed, 19 Jan 2022)
EllapsedTime: 59.3 seconds
RetCode: 0
Status:   OK  
PackageFile: LiebermanAidenHiC2009_0.32.0.tar.gz
PackageFileSize: 10.16 MiB

Command output

##############################################################################
##############################################################################
###
### Running command:
###
###   /home/biocbuild/bbs-3.14-bioc/R/bin/R CMD build --keep-empty-dirs --no-resave-data LiebermanAidenHiC2009
###
##############################################################################
##############################################################################


* checking for file ‘LiebermanAidenHiC2009/DESCRIPTION’ ... OK
* preparing ‘LiebermanAidenHiC2009’:
* checking DESCRIPTION meta-information ... OK
* installing the package to build vignettes
* creating vignettes ... OK
* checking for LF line-endings in source and make files and shell scripts
* checking for empty or unneeded directories
* looking to see if a ‘data/datalist’ file should be added
* building ‘LiebermanAidenHiC2009_0.32.0.tar.gz’