Index of /checkResults/release/data-experiment-LATEST/GSE103322/raw-results

[ICO]NameLast modifiedSizeDescription

[DIR]Parent Directory  -  
[   ]info.dcf31-Mar-2023 03:50 274  
[DIR]nebbiolo2/31-Mar-2023 03:50 -