Back to Build/check report for BioC 3.16 experimental data
ABCDEF[G]HIJKLMNOPQRSTUVWXYZ

This page was generated on 2023-02-02 14:50:28 -0500 (Thu, 02 Feb 2023).

HostnameOSArch (*)R versionInstalled pkgs
nebbiolo2Linux (Ubuntu 20.04.5 LTS)x86_644.2.2 (2022-10-31) -- "Innocent and Trusting" 4510
Click on any hostname to see more info about the system (e.g. compilers)      (*) as reported by 'uname -p', except on Windows and Mac OS X

All results for package GSE103322


To the developers/maintainers of the GSE103322 package:
Make sure to use the following settings in order to reproduce any error or warning you see on this page.

raw results

Package 150/416HostnameOS / ArchINSTALLBUILDCHECK
GSE103322 1.4.0  (landing page)
Mariano Alvarez
Snapshot Date: 2023-02-02 07:30:02 -0500 (Thu, 02 Feb 2023)
git_url: https://git.bioconductor.org/packages/GSE103322
git_branch: RELEASE_3_16
git_last_commit: c5e3a51
git_last_commit_date: 2022-11-01 11:27:01 -0500 (Tue, 01 Nov 2022)
nebbiolo2Linux (Ubuntu 20.04.5 LTS) / x86_64  OK    OK    OK  UNNEEDED, same version is already published