Index of /checkResults/release/data-experiment-LATEST/Fletcher2013b/raw-results

[ICO]NameLast modifiedSizeDescription

[DIR]Parent Directory  -  
[   ]info.dcf29-Mar-2024 03:52 287  
[DIR]nebbiolo2/29-Mar-2024 03:52 -