Index of /checkResults/release/data-experiment-LATEST/Fletcher2013b/raw-results

[ICO]NameLast modifiedSizeDescription

[DIR]Parent Directory  -  
[   ]info.dcf22-May-2024 03:51 287  
[DIR]nebbiolo1/22-May-2024 03:51 -