Name | Last modified | Size | Description | |
---|---|---|---|---|
Parent Directory | - | |||
checksrc-summary.dcf | 17-Jul-2024 03:51 | 421 | ||
checksrc-out.txt | 17-Jul-2024 03:51 | 3.1K | ||
buildsrc-summary.dcf | 17-Jul-2024 03:51 | 422 | ||
buildsrc-out.txt | 17-Jul-2024 03:51 | 814 | ||
install-summary.dcf | 17-Jul-2024 03:51 | 263 | ||
install-out.txt | 17-Jul-2024 03:51 | 943 | ||