Index of /checkResults/release/data-experiment-LATEST/DExMAdata/raw-results

[ICO]NameLast modifiedSizeDescription

[DIR]Parent Directory  -  
[   ]info.dcf20-Jan-2022 04:50 308  
[DIR]nebbiolo2/20-Jan-2022 04:50 -