Index of /checkResults/release/data-experiment-LATEST/DExMAdata/raw-results/nebbiolo1

[ICO]NameLast modifiedSizeDescription

[DIR]Parent Directory  -  
[TXT]buildsrc-out.txt21-Jun-2024 03:51 814  
[   ]buildsrc-summary.dcf21-Jun-2024 03:51 423  
[TXT]checksrc-out.txt21-Jun-2024 03:51 3.1K 
[   ]checksrc-summary.dcf21-Jun-2024 03:51 421  
[TXT]install-out.txt21-Jun-2024 03:51 943  
[   ]install-summary.dcf21-Jun-2024 03:51 263