Index of /checkResults/release/data-experiment-LATEST/BloodCancerMultiOmics2017/raw-results

[ICO]NameLast modifiedSizeDescription

[DIR]Parent Directory  -  
[   ]info.dcf17-May-2024 03:51 318  
[DIR]nebbiolo1/17-May-2024 03:51 -