Back to Build/check report for BioC 3.16 experimental data
A[B]CDEFGHIJKLMNOPQRSTUVWXYZ

This page was generated on 2023-01-26 14:50:32 -0500 (Thu, 26 Jan 2023).

HostnameOSArch (*)R versionInstalled pkgs
nebbiolo2Linux (Ubuntu 20.04.5 LTS)x86_644.2.2 (2022-10-31) -- "Innocent and Trusting" 4508
Click on any hostname to see more info about the system (e.g. compilers)      (*) as reported by 'uname -p', except on Windows and Mac OS X

All results for package BloodCancerMultiOmics2017


To the developers/maintainers of the BloodCancerMultiOmics2017 package:
Make sure to use the following settings in order to reproduce any error or warning you see on this page.

raw results

Package 33/416HostnameOS / ArchINSTALLBUILDCHECK
BloodCancerMultiOmics2017 1.18.0  (landing page)
Malgorzata Oles
Snapshot Date: 2023-01-26 07:30:02 -0500 (Thu, 26 Jan 2023)
git_url: https://git.bioconductor.org/packages/BloodCancerMultiOmics2017
git_branch: RELEASE_3_16
git_last_commit: c5f31b9
git_last_commit_date: 2022-11-01 11:18:09 -0500 (Tue, 01 Nov 2022)
nebbiolo2Linux (Ubuntu 20.04.5 LTS) / x86_64  OK    OK    WARNINGS  UNNEEDED, same version is already published