Index of /checkResults/release/data-experiment-LATEST/BioPlex/raw-results/nebbiolo1

[ICO]NameLast modifiedSizeDescription

[DIR]Parent Directory  -  
[TXT]buildsrc-out.txt21-Jun-2024 03:51 1.5K 
[   ]buildsrc-summary.dcf21-Jun-2024 03:51 333  
[TXT]checksrc-out.txt19-Jun-2024 03:51 3.6K 
[   ]checksrc-summary.dcf19-Jun-2024 03:51 414  
[TXT]install-out.txt21-Jun-2024 03:51 952  
[   ]install-summary.dcf21-Jun-2024 03:51 259