Index of /checkResults/release/data-experiment-LATEST/BioPlex/raw-results/nebbiolo1

[ICO]NameLast modifiedSizeDescription

[DIR]Parent Directory  -  
[TXT]buildsrc-out.txt19-Jul-2024 03:51 846  
[   ]buildsrc-summary.dcf19-Jul-2024 03:51 418  
[TXT]checksrc-out.txt19-Jul-2024 03:51 3.6K 
[   ]checksrc-summary.dcf19-Jul-2024 03:51 414  
[TXT]install-out.txt19-Jul-2024 03:51 952  
[   ]install-summary.dcf19-Jul-2024 03:51 259