Back to Multiple platform build/check report for BioC 3.16
ABCDEFGHIJKLMNOPQRSTU[V]WXYZ

This page was generated on 2023-02-02 11:05:10 -0500 (Thu, 02 Feb 2023).

HostnameOSArch (*)R versionInstalled pkgs
nebbiolo2Linux (Ubuntu 20.04.5 LTS)x86_644.2.2 (2022-10-31) -- "Innocent and Trusting" 4511
palomino4Windows Server 2022 Datacenterx644.2.2 (2022-10-31 ucrt) -- "Innocent and Trusting" 4289
lconwaymacOS 12.5.1 Montereyx86_644.2.2 (2022-10-31) -- "Innocent and Trusting" 4318
Click on any hostname to see more info about the system (e.g. compilers)      (*) as reported by 'uname -p', except on Windows and Mac OS X

All results for package viper


To the developers/maintainers of the viper package:
- Please allow up to 24 hours (and sometimes 48 hours) for your latest push to git@git.bioconductor.org:packages/viper.git to
reflect on this report. See How and When does the builder pull? When will my changes propagate? for more information.
- Make sure to use the following settings in order to reproduce any error or warning you see on this page.

raw results

Package 2147/2183HostnameOS / ArchINSTALLBUILDCHECKBUILD BIN
viper 1.32.0  (landing page)
Mariano J Alvarez
Snapshot Date: 2023-02-01 14:00:04 -0500 (Wed, 01 Feb 2023)
git_url: https://git.bioconductor.org/packages/viper
git_branch: RELEASE_3_16
git_last_commit: fdbc0ea
git_last_commit_date: 2022-11-01 11:09:24 -0500 (Tue, 01 Nov 2022)
nebbiolo2Linux (Ubuntu 20.04.5 LTS) / x86_64  OK    OK    WARNINGS  UNNEEDED, same version is already published
palomino4Windows Server 2022 Datacenter / x64  OK    OK    WARNINGS    OK  UNNEEDED, same version is already published
lconwaymacOS 12.5.1 Monterey / x86_64  OK    OK    WARNINGS    OK  UNNEEDED, same version is already published

Results for Bioconductor software packages that depend directly on package viper

QUICK STATSOS / ArchINSTALLBUILDCHECKBUILD BIN
nebbiolo2Linux (Ubuntu 20.04.5 LTS) / x86_64
003
003
0012
palomino4Windows Server 2022 Datacenter / x64
003
003
0012
003
lconwaymacOS 12.5.1 Monterey / x86_64
003
003
0012
003
Package 1/3HostnameOS / ArchINSTALLBUILDCHECKBUILD BIN
diggit 1.30.0  (landing page)
Mariano J Alvarez
git_last_commit: 3f95e15
git_last_commit_date: 2022-11-01 11:11:14 -0500
nebbiolo2Linux (Ubuntu 20.04.5 LTS) / x86_64  OK    OK    WARNINGS  UNNEEDED, same version is already published
palomino4Windows Server 2022 Datacenter / x64  OK    OK    WARNINGS    OK  UNNEEDED, same version is already published
lconwaymacOS 12.5.1 Monterey / x86_64  OK    OK    WARNINGS    OK  UNNEEDED, same version is already published
Package 2/3HostnameOS / ArchINSTALLBUILDCHECKBUILD BIN
RTN 2.22.1  (landing page)
Mauro Castro
git_last_commit: 88ac54f
git_last_commit_date: 2022-11-27 20:29:36 -0500
nebbiolo2Linux (Ubuntu 20.04.5 LTS) / x86_64  OK    OK    OK  UNNEEDED, same version is already published
palomino4Windows Server 2022 Datacenter / x64  OK    OK    OK    OK  UNNEEDED, same version is already published
lconwaymacOS 12.5.1 Monterey / x86_64  OK    OK    OK    OK  UNNEEDED, same version is already published
Package 3/3HostnameOS / ArchINSTALLBUILDCHECKBUILD BIN
vulcan 1.20.0  (landing page)
Federico M. Giorgi
git_last_commit: 5c45df0
git_last_commit_date: 2022-11-01 11:16:27 -0500
nebbiolo2Linux (Ubuntu 20.04.5 LTS) / x86_64  OK    OK    OK  UNNEEDED, same version is already published
palomino4Windows Server 2022 Datacenter / x64  OK    OK    OK    OK  UNNEEDED, same version is already published
lconwaymacOS 12.5.1 Monterey / x86_64  OK    OK    OK    OK  UNNEEDED, same version is already published