Index of /checkResults/release/bioc-LATEST/velociraptor/raw-results

[ICO]NameLast modifiedSizeDescription

[DIR]Parent Directory  -  
[DIR]nebbiolo1/05-Oct-2023 00:36 -  
[DIR]palomino3/05-Oct-2023 00:37 -  
[   ]info.dcf05-Oct-2023 00:37 287  
[DIR]merida1/05-Oct-2023 00:37 -