![]() | Name | Last modified | Size | Description |
---|---|---|---|---|
![]() | Parent Directory | - | ||
![]() | buildbin-out.txt | 05-Oct-2023 00:37 | 1.1K | |
![]() | buildbin-summary.dcf | 05-Oct-2023 00:37 | 560 | |
![]() | buildsrc-out.txt | 05-Oct-2023 00:37 | 836 | |
![]() | buildsrc-summary.dcf | 05-Oct-2023 00:37 | 441 | |
![]() | checksrc-out.txt | 05-Oct-2023 00:37 | 3.7K | |
![]() | checksrc-summary.dcf | 05-Oct-2023 00:37 | 464 | |
![]() | install-out.txt | 05-Oct-2023 00:37 | 882 | |
![]() | install-summary.dcf | 05-Oct-2023 00:37 | 279 | |