Back to Multiple platform build/check report for BioC 3.12
ABCDEFGHIJKLMNOPQRS[T]UVWXYZ

Multiple platform build/check report for BioC 3.12

Results for transcriptogramer

This page was generated on 2020-12-03 12:09:35 -0500 (Thu, 03 Dec 2020).

Package 1886/1974HostnameOS / ArchINSTALLBUILDCHECKBUILD BIN
transcriptogramer 1.12.0
Diego Morais
Snapshot Date: 2020-12-02 14:40:19 -0500 (Wed, 02 Dec 2020)
URL: https://git.bioconductor.org/packages/transcriptogramer
Branch: RELEASE_3_12
Last Commit: a185338
Last Changed Date: 2020-10-27 11:29:52 -0500 (Tue, 27 Oct 2020)
malbec1 Linux (Ubuntu 18.04.4 LTS) / x86_64  OK  OK  OK UNNEEDED, same version exists in internal repository
nebbiolo1 Linux (Ubuntu 20.04.1 LTS) / x86_64  OK  OK  OK 
tokay1 Windows Server 2012 R2 Standard / x64  OK  OK  OK  OK UNNEEDED, same version exists in internal repository
merida1 macOS 10.14.6 Mojave / x86_64  OK  OK  OK  OK UNNEEDED, same version exists in internal repository