Name | Last modified | Size | Description | |
---|---|---|---|---|
Parent Directory | - | |||
buildbin-out.txt | 29-Jun-2024 06:42 | 1.1K | ||
buildbin-summary.dcf | 29-Jun-2024 06:42 | 503 | ||
buildsrc-out.txt | 29-Jun-2024 06:42 | 829 | ||
buildsrc-summary.dcf | 29-Jun-2024 06:42 | 444 | ||
checksrc-out.txt | 29-Jun-2024 06:42 | 3.4K | ||
checksrc-summary.dcf | 29-Jun-2024 06:42 | 444 | ||
install-out.txt | 29-Jun-2024 06:42 | 1.0K | ||
install-summary.dcf | 29-Jun-2024 06:42 | 264 | ||