Index of /checkResults/release/bioc-LATEST/swfdr/raw-results

[ICO]NameLast modifiedSizeDescription

[DIR]Parent Directory  -  
[   ]info.dcf28-Mar-2023 00:06 306  
[DIR]kjohnson/12-Jul-2022 00:06 -  
[DIR]lconway/28-Mar-2023 00:06 -  
[DIR]nebbiolo2/28-Mar-2023 00:05 -  
[DIR]palomino4/28-Mar-2023 00:05 -