Back to Multiple platform build/check report for BioC 3.16:   simplified   long
ABCDEFGHIJKLMNOPQR[S]TUVWXYZ

This page was generated on 2023-02-04 11:06:06 -0500 (Sat, 04 Feb 2023).

HostnameOSArch (*)R versionInstalled pkgs
nebbiolo2Linux (Ubuntu 20.04.5 LTS)x86_644.2.2 (2022-10-31) -- "Innocent and Trusting" 4511
palomino4Windows Server 2022 Datacenterx644.2.2 (2022-10-31 ucrt) -- "Innocent and Trusting" 4289
lconwaymacOS 12.5.1 Montereyx86_644.2.2 (2022-10-31) -- "Innocent and Trusting" 4318
Click on any hostname to see more info about the system (e.g. compilers)      (*) as reported by 'uname -p', except on Windows and Mac OS X

BUILD BIN results for soGGi on lconway


To the developers/maintainers of the soGGi package:
- Please allow up to 24 hours (and sometimes 48 hours) for your latest push to git@git.bioconductor.org:packages/soGGi.git to
reflect on this report. See How and When does the builder pull? When will my changes propagate? for more information.
- Make sure to use the following settings in order to reproduce any error or warning you see on this page.

raw results

Package 1913/2183HostnameOS / ArchINSTALLBUILDCHECKBUILD BIN
soGGi 1.30.0  (landing page)
Tom Carroll
Snapshot Date: 2023-02-03 14:00:04 -0500 (Fri, 03 Feb 2023)
git_url: https://git.bioconductor.org/packages/soGGi
git_branch: RELEASE_3_16
git_last_commit: 81e9ccd
git_last_commit_date: 2022-11-01 11:11:34 -0500 (Tue, 01 Nov 2022)
nebbiolo2Linux (Ubuntu 20.04.5 LTS) / x86_64  OK    OK    OK  UNNEEDED, same version is already published
palomino4Windows Server 2022 Datacenter / x64  OK    OK    OK    OK  UNNEEDED, same version is already published
lconwaymacOS 12.5.1 Monterey / x86_64  OK    OK    OK    OK  UNNEEDED, same version is already published

Summary

Package: soGGi
Version: 1.30.0
Command: rm -rf soGGi.buildbin-libdir && mkdir soGGi.buildbin-libdir && /Users/biocbuild/BBS/utils/build-universal.sh soGGi_1.30.0.tar.gz /Library/Frameworks/R.framework/Resources/bin/R soGGi.buildbin-libdir
StartedAt: 2023-02-04 00:31:38 -0500 (Sat, 04 Feb 2023)
EndedAt: 2023-02-04 00:32:28 -0500 (Sat, 04 Feb 2023)
EllapsedTime: 49.8 seconds
RetCode: 0
Status:   OK  
PackageFile: soGGi_1.30.0.tgz
PackageFileSize: 3.639 MiB

Command output

##############################################################################
##############################################################################
###
### Running command:
###
###   rm -rf soGGi.buildbin-libdir && mkdir soGGi.buildbin-libdir && /Users/biocbuild/BBS/utils/build-universal.sh soGGi_1.30.0.tar.gz /Library/Frameworks/R.framework/Resources/bin/R soGGi.buildbin-libdir
###
##############################################################################
##############################################################################


>>>>>>> 
>>>>>>> INSTALLATION WITH 'R CMD INSTALL --preclean --no-multiarch --library=soGGi.buildbin-libdir soGGi_1.30.0.tar.gz'
>>>>>>> 

* installing *source* package ‘soGGi’ ...
** using staged installation
** R
** data
** inst
** byte-compile and prepare package for lazy loading
** help
*** installing help indices
** building package indices
** installing vignettes
** testing if installed package can be loaded from temporary location
** testing if installed package can be loaded from final location
** testing if installed package keeps a record of temporary installation path
* DONE (soGGi)