Name | Last modified | Size | Description | |
---|---|---|---|---|
Parent Directory | - | |||
install-summary.dcf | 12-Jun-2024 03:44 | 286 | ||
buildsrc-summary.dcf | 12-Jun-2024 03:44 | 453 | ||
checksrc-summary.dcf | 12-Jun-2024 03:44 | 476 | ||
buildbin-summary.dcf | 12-Jun-2024 03:44 | 579 | ||
buildsrc-out.txt | 12-Jun-2024 03:44 | 941 | ||
install-out.txt | 12-Jun-2024 03:44 | 2.5K | ||
checksrc-out.txt | 12-Jun-2024 03:44 | 4.3K | ||
buildbin-out.txt | 12-Jun-2024 03:44 | 4.7K | ||