Index of /checkResults/release/bioc-LATEST/signatureSearch/raw-results

[ICO]NameLast modifiedSizeDescription

[DIR]Parent Directory  -  
[   ]info.dcf03-Mar-2024 01:35 285  
[DIR]kunpeng2/03-Nov-2023 00:41 -  
[DIR]lconway/03-Mar-2024 01:37 -  
[DIR]nebbiolo2/03-Mar-2024 01:36 -  
[DIR]palomino4/03-Mar-2024 01:37 -