Name | Last modified | Size | Description | |
---|---|---|---|---|
Parent Directory | - | |||
buildbin-out.txt | 30-Mar-2024 00:38 | 4.8K | ||
buildbin-summary.dcf | 30-Mar-2024 00:38 | 579 | ||
buildsrc-out.txt | 30-Mar-2024 00:38 | 941 | ||
buildsrc-summary.dcf | 30-Mar-2024 00:38 | 453 | ||
checksrc-out.txt | 30-Mar-2024 00:38 | 1.7K | ||
checksrc-summary.dcf | 30-Mar-2024 00:38 | 479 | ||
install-out.txt | 30-Mar-2024 00:38 | 2.7K | ||
install-summary.dcf | 30-Mar-2024 00:38 | 288 | ||