Index of /checkResults/release/bioc-LATEST/scviR/raw-results/lconway
Name
Last modified
Size
Description
Parent Directory
-
buildsrc-out.txt
12-Jun-2024 03:43
2.6K
buildsrc-summary.dcf
12-Jun-2024 03:43
339
install-out.txt
12-Jun-2024 03:43
1.0K
install-summary.dcf
12-Jun-2024 03:43
264