Index of /checkResults/release/bioc-LATEST/scran/raw-results/palomino4

[ICO]NameLast modifiedSizeDescription

[DIR]Parent Directory  -  
[TXT]buildbin-out.txt31-Jan-2023 01:07 64K 
[   ]buildbin-summary.dcf31-Jan-2023 01:07 503  
[TXT]buildsrc-out.txt31-Jan-2023 01:07 861  
[   ]buildsrc-summary.dcf31-Jan-2023 01:07 444  
[TXT]checksrc-out.txt31-Jan-2023 01:07 4.6K 
[   ]checksrc-summary.dcf31-Jan-2023 01:07 445  
[TXT]install-out.txt31-Jan-2023 01:07 64K 
[   ]install-summary.dcf31-Jan-2023 01:07 264