Index of /checkResults/release/bioc-LATEST/scran/raw-results

[ICO]NameLast modifiedSizeDescription

[DIR]Parent Directory  -  
[   ]info.dcf08-Dec-2022 01:09 285  
[DIR]kjohnson/12-Jul-2022 00:06 -  
[DIR]lconway/08-Dec-2022 01:09 -  
[DIR]nebbiolo2/08-Dec-2022 01:06 -  
[DIR]palomino4/08-Dec-2022 01:07 -