Index of /checkResults/release/bioc-LATEST/scran/raw-results/lconway

[ICO]NameLast modifiedSizeDescription

[DIR]Parent Directory  -  
[TXT]buildbin-out.txt29-Jan-2023 01:08 43K 
[   ]buildbin-summary.dcf29-Jan-2023 01:08 519  
[TXT]buildsrc-out.txt29-Jan-2023 01:08 838  
[   ]buildsrc-summary.dcf29-Jan-2023 01:08 422  
[TXT]checksrc-out.txt29-Jan-2023 01:08 4.0K 
[   ]checksrc-summary.dcf29-Jan-2023 01:08 442  
[TXT]install-out.txt29-Jan-2023 01:08 42K 
[   ]install-summary.dcf29-Jan-2023 01:08 266