Index of /checkResults/release/bioc-LATEST/scater/raw-results
Name
Last modified
Size
Description
Parent Directory
-
palomino3/
03-May-2024 00:39
-
nebbiolo1/
03-May-2024 00:38
-
merida1/
05-Mar-2024 01:39
-
lconway/
03-May-2024 00:41
-
kunpeng2/
03-May-2024 00:42
-
info.dcf
03-May-2024 00:36
280