Name | Last modified | Size | Description | |
---|---|---|---|---|
Parent Directory | - | |||
buildsrc-out.txt | 03-Nov-2023 00:41 | 643 | ||
buildsrc-summary.dcf | 03-Nov-2023 00:41 | 337 | ||
checksrc-out.txt | 25-Oct-2023 00:41 | 5.0K | ||
checksrc-summary.dcf | 25-Oct-2023 00:41 | 408 | ||
install-out.txt | 03-Nov-2023 00:41 | 938 | ||
install-summary.dcf | 03-Nov-2023 00:41 | 256 | ||