Index of /checkResults/release/bioc-LATEST/scTreeViz/raw-results

[ICO]NameLast modifiedSizeDescription

[DIR]Parent Directory  -  
[   ]info.dcf03-Jun-2023 00:07 286  
[DIR]merida1/03-Jun-2023 00:07 -  
[DIR]nebbiolo1/03-Jun-2023 00:05 -  
[DIR]palomino3/03-Jun-2023 00:06 -