Back to Multiple platform build/check report for BioC 3.16:   simplified   long
ABCDEFGHIJKLMNOPQR[S]TUVWXYZ

This page was generated on 2023-03-24 11:05:42 -0400 (Fri, 24 Mar 2023).

HostnameOSArch (*)R versionInstalled pkgs
nebbiolo2Linux (Ubuntu 20.04.5 LTS)x86_644.2.3 (2023-03-15) -- "Shortstop Beagle" 4286
palomino4Windows Server 2022 Datacenterx644.2.3 (2023-03-15 ucrt) -- "Shortstop Beagle" 4276
lconwaymacOS 12.5.1 Montereyx86_644.2.3 (2023-03-15) -- "Shortstop Beagle" 4303
Click on any hostname to see more info about the system (e.g. compilers)      (*) as reported by 'uname -p', except on Windows and Mac OS X

CHECK results for scHOT on nebbiolo2


To the developers/maintainers of the scHOT package:
- Please allow up to 24 hours (and sometimes 48 hours) for your latest push to git@git.bioconductor.org:packages/scHOT.git to
reflect on this report. See How and When does the builder pull? When will my changes propagate? for more information.
- Make sure to use the following settings in order to reproduce any error or warning you see on this page.

raw results

Package 1801/2183HostnameOS / ArchINSTALLBUILDCHECKBUILD BIN
scHOT 1.10.0  (landing page)
Shila Ghazanfar
Snapshot Date: 2023-03-22 14:00:04 -0400 (Wed, 22 Mar 2023)
git_url: https://git.bioconductor.org/packages/scHOT
git_branch: RELEASE_3_16
git_last_commit: 5082c3d
git_last_commit_date: 2022-11-01 11:21:48 -0400 (Tue, 01 Nov 2022)
nebbiolo2Linux (Ubuntu 20.04.5 LTS) / x86_64  OK    OK    OK  UNNEEDED, same version is already published
palomino4Windows Server 2022 Datacenter / x64  OK    OK    OK    OK  UNNEEDED, same version is already published
lconwaymacOS 12.5.1 Monterey / x86_64  OK    OK    OK    OK  UNNEEDED, same version is already published

Summary

Package: scHOT
Version: 1.10.0
Command: /home/biocbuild/bbs-3.16-bioc/R/bin/R CMD check --install=check:scHOT.install-out.txt --library=/home/biocbuild/bbs-3.16-bioc/R/site-library --timings scHOT_1.10.0.tar.gz
StartedAt: 2023-03-22 23:59:31 -0400 (Wed, 22 Mar 2023)
EndedAt: 2023-03-23 00:10:06 -0400 (Thu, 23 Mar 2023)
EllapsedTime: 635.3 seconds
RetCode: 0
Status:   OK  
CheckDir: scHOT.Rcheck
Warnings: 0

Command output

##############################################################################
##############################################################################
###
### Running command:
###
###   /home/biocbuild/bbs-3.16-bioc/R/bin/R CMD check --install=check:scHOT.install-out.txt --library=/home/biocbuild/bbs-3.16-bioc/R/site-library --timings scHOT_1.10.0.tar.gz
###
##############################################################################
##############################################################################


* using log directory ‘/home/biocbuild/bbs-3.16-bioc/meat/scHOT.Rcheck’
* using R version 4.2.3 (2023-03-15)
* using platform: x86_64-pc-linux-gnu (64-bit)
* using session charset: UTF-8
* checking for file ‘scHOT/DESCRIPTION’ ... OK
* checking extension type ... Package
* this is package ‘scHOT’ version ‘1.10.0’
* package encoding: UTF-8
* checking package namespace information ... OK
* checking package dependencies ... OK
* checking if this is a source package ... OK
* checking if there is a namespace ... OK
* checking for hidden files and directories ... OK
* checking for portable file names ... OK
* checking for sufficient/correct file permissions ... OK
* checking whether package ‘scHOT’ can be installed ... OK
* checking installed package size ... OK
* checking package directory ... OK
* checking ‘build’ directory ... OK
* checking DESCRIPTION meta-information ... OK
* checking top-level files ... OK
* checking for left-over files ... OK
* checking index information ... OK
* checking package subdirectories ... OK
* checking R files for non-ASCII characters ... OK
* checking R files for syntax errors ... OK
* checking whether the package can be loaded ... OK
* checking whether the package can be loaded with stated dependencies ... OK
* checking whether the package can be unloaded cleanly ... OK
* checking whether the namespace can be loaded with stated dependencies ... OK
* checking whether the namespace can be unloaded cleanly ... OK
* checking loading without being on the library search path ... OK
* checking dependencies in R code ... OK
* checking S3 generic/method consistency ... OK
* checking replacement functions ... OK
* checking foreign function calls ... OK
* checking R code for possible problems ... OK
* checking Rd files ... OK
* checking Rd metadata ... OK
* checking Rd cross-references ... OK
* checking for missing documentation entries ... OK
* checking for code/documentation mismatches ... OK
* checking Rd \usage sections ... OK
* checking Rd contents ... OK
* checking for unstated dependencies in examples ... OK
* checking contents of ‘data’ directory ... OK
* checking data for non-ASCII characters ... OK
* checking LazyData ... OK
* checking data for ASCII and uncompressed saves ... OK
* checking files in ‘vignettes’ ... OK
* checking examples ... OK
Examples with CPU (user + system) or elapsed time > 5s
                               user system elapsed
scHOT_estimatePvalues        69.315  0.203  69.543
scHOT                        69.041  0.468  69.515
scHOT_performPermutationTest 65.675  0.184  65.876
* checking for unstated dependencies in vignettes ... OK
* checking package vignettes in ‘inst/doc’ ... OK
* checking running R code from vignettes ...
  ‘scHOT.Rmd’ using ‘UTF-8’... OK
 NONE
* checking re-building of vignette outputs ... OK
* checking PDF version of manual ... OK
* DONE

Status: OK


Installation output

scHOT.Rcheck/00install.out

##############################################################################
##############################################################################
###
### Running command:
###
###   /home/biocbuild/bbs-3.16-bioc/R/bin/R CMD INSTALL scHOT
###
##############################################################################
##############################################################################


* installing to library ‘/home/biocbuild/bbs-3.16-bioc/R/site-library’
* installing *source* package ‘scHOT’ ...
** using staged installation
** R
** data
*** moving datasets to lazyload DB
** byte-compile and prepare package for lazy loading
** help
*** installing help indices
** building package indices
** installing vignettes
** testing if installed package can be loaded from temporary location
** testing if installed package can be loaded from final location
** testing if installed package keeps a record of temporary installation path
* DONE (scHOT)

Tests output


Example timings

scHOT.Rcheck/scHOT-Ex.timings

nameusersystemelapsed
params-set1.0350.0161.051
plotColouredExpression1.0180.0991.118
plotHigherOrderSequence1.8200.0051.824
positionColData-set0.1520.0000.152
positionType-set0.1480.0000.149
scHOT69.041 0.46869.515
scHOT_addTestingScaffold0.1620.0070.170
scHOT_buildFromMatrix0.1550.0030.159
scHOT_buildFromSCE0.5100.0770.586
scHOT_calculateGlobalHigherOrderFunction0.2180.0110.230
scHOT_calculateHigherOrderTestStatistics0.9960.0161.012
scHOT_estimatePvalues69.315 0.20369.543
scHOT_output-set0.2610.0000.261
scHOT_performPermutationTest65.675 0.18465.876
scHOT_setPermutationScaffold0.2210.0000.222
scHOT_setWeightMatrix0.1900.0120.203
scHOT_stripOutput0.1970.0040.202
spatialWeightMatrix0.0040.0000.004
testingScaffold-set0.1620.0000.162
thin0.0090.0000.010
trajectoryWeightMatrix0.0030.0000.003
weightMatrix-set0.2780.0040.282
weightedPearson0.0000.0000.001
weightedSpearman0.0010.0000.000
weightedVariance000
weightedZIKendall0.0010.0000.001
weightedZISpearman000