Back to Multiple platform build/check report for BioC 3.18: simplified long |
|
This page was generated on 2024-03-29 11:36:18 -0400 (Fri, 29 Mar 2024).
Hostname | OS | Arch (*) | R version | Installed pkgs |
---|---|---|---|---|
nebbiolo2 | Linux (Ubuntu 22.04.3 LTS) | x86_64 | 4.3.3 (2024-02-29) -- "Angel Food Cake" | 4669 |
palomino4 | Windows Server 2022 Datacenter | x64 | 4.3.3 (2024-02-29 ucrt) -- "Angel Food Cake" | 4404 |
merida1 | macOS 12.7.1 Monterey | x86_64 | 4.3.3 (2024-02-29) -- "Angel Food Cake" | 4427 |
Click on any hostname to see more info about the system (e.g. compilers) (*) as reported by 'uname -p', except on Windows and Mac OS X |
Package 1751/2266 | Hostname | OS / Arch | INSTALL | BUILD | CHECK | BUILD BIN | ||||||||
ribosomeProfilingQC 1.14.1 (landing page) Jianhong Ou
| nebbiolo2 | Linux (Ubuntu 22.04.3 LTS) / x86_64 | OK | OK | OK | |||||||||
palomino4 | Windows Server 2022 Datacenter / x64 | OK | OK | OK | OK | |||||||||
merida1 | macOS 12.7.1 Monterey / x86_64 | OK | OK | OK | OK | |||||||||
kjohnson1 | macOS 13.6.1 Ventura / arm64 | see weekly results here | ||||||||||||
To the developers/maintainers of the ribosomeProfilingQC package: - Allow up to 24 hours (and sometimes 48 hours) for your latest push to git@git.bioconductor.org:packages/ribosomeProfilingQC.git to reflect on this report. See Troubleshooting Build Report for more information. - Use the following Renviron settings to reproduce errors and warnings. - If 'R CMD check' started to fail recently on the Linux builder(s) over a missing dependency, add the missing dependency to 'Suggests:' in your DESCRIPTION file. See Renviron.bioc for more information. |
Package: ribosomeProfilingQC |
Version: 1.14.1 |
Command: /home/biocbuild/bbs-3.18-bioc/R/bin/R CMD check --install=check:ribosomeProfilingQC.install-out.txt --library=/home/biocbuild/bbs-3.18-bioc/R/site-library --timings ribosomeProfilingQC_1.14.1.tar.gz |
StartedAt: 2024-03-28 02:01:32 -0400 (Thu, 28 Mar 2024) |
EndedAt: 2024-03-28 02:13:04 -0400 (Thu, 28 Mar 2024) |
EllapsedTime: 691.3 seconds |
RetCode: 0 |
Status: OK |
CheckDir: ribosomeProfilingQC.Rcheck |
Warnings: 0 |
############################################################################## ############################################################################## ### ### Running command: ### ### /home/biocbuild/bbs-3.18-bioc/R/bin/R CMD check --install=check:ribosomeProfilingQC.install-out.txt --library=/home/biocbuild/bbs-3.18-bioc/R/site-library --timings ribosomeProfilingQC_1.14.1.tar.gz ### ############################################################################## ############################################################################## * using log directory ‘/home/biocbuild/bbs-3.18-bioc/meat/ribosomeProfilingQC.Rcheck’ * using R version 4.3.3 (2024-02-29) * using platform: x86_64-pc-linux-gnu (64-bit) * R was compiled by gcc (Ubuntu 11.4.0-1ubuntu1~22.04) 11.4.0 GNU Fortran (Ubuntu 11.4.0-1ubuntu1~22.04) 11.4.0 * running under: Ubuntu 22.04.4 LTS * using session charset: UTF-8 * checking for file ‘ribosomeProfilingQC/DESCRIPTION’ ... OK * checking extension type ... Package * this is package ‘ribosomeProfilingQC’ version ‘1.14.1’ * package encoding: UTF-8 * checking package namespace information ... OK * checking package dependencies ... OK * checking if this is a source package ... OK * checking if there is a namespace ... OK * checking for hidden files and directories ... OK * checking for portable file names ... OK * checking for sufficient/correct file permissions ... OK * checking whether package ‘ribosomeProfilingQC’ can be installed ... OK * checking installed package size ... OK * checking package directory ... OK * checking ‘build’ directory ... OK * checking DESCRIPTION meta-information ... OK * checking top-level files ... OK * checking for left-over files ... OK * checking index information ... OK * checking package subdirectories ... OK * checking R files for non-ASCII characters ... OK * checking R files for syntax errors ... OK * checking whether the package can be loaded ... OK * checking whether the package can be loaded with stated dependencies ... OK * checking whether the package can be unloaded cleanly ... OK * checking whether the namespace can be loaded with stated dependencies ... OK * checking whether the namespace can be unloaded cleanly ... OK * checking loading without being on the library search path ... OK * checking dependencies in R code ... OK * checking S3 generic/method consistency ... OK * checking replacement functions ... OK * checking foreign function calls ... OK * checking R code for possible problems ... OK * checking Rd files ... OK * checking Rd metadata ... OK * checking Rd cross-references ... OK * checking for missing documentation entries ... OK * checking for code/documentation mismatches ... OK * checking Rd \usage sections ... OK * checking Rd contents ... OK * checking for unstated dependencies in examples ... OK * checking files in ‘vignettes’ ... OK * checking examples ... OK Examples with CPU (user + system) or elapsed time > 5s user system elapsed readsDistribution 12.314 0.236 12.550 coverageRates 8.442 0.159 8.602 readsEndPlot 6.845 0.196 7.040 coverageDepth 6.436 0.308 6.744 countReads 5.946 0.199 6.148 * checking for unstated dependencies in ‘tests’ ... OK * checking tests ... Running ‘runTests.R’ OK * checking for unstated dependencies in vignettes ... OK * checking package vignettes in ‘inst/doc’ ... OK * checking running R code from vignettes ... ‘ribosomeProfilingQC.Rmd’ using ‘UTF-8’... OK NONE * checking re-building of vignette outputs ... OK * checking PDF version of manual ... OK * DONE Status: OK
ribosomeProfilingQC.Rcheck/00install.out
############################################################################## ############################################################################## ### ### Running command: ### ### /home/biocbuild/bbs-3.18-bioc/R/bin/R CMD INSTALL ribosomeProfilingQC ### ############################################################################## ############################################################################## * installing to library ‘/home/biocbuild/bbs-3.18-bioc/R/site-library’ * installing *source* package ‘ribosomeProfilingQC’ ... ** using staged installation ** R ** inst ** byte-compile and prepare package for lazy loading ** help *** installing help indices ** building package indices ** installing vignettes ** testing if installed package can be loaded from temporary location ** testing if installed package can be loaded from final location ** testing if installed package keeps a record of temporary installation path * DONE (ribosomeProfilingQC)
ribosomeProfilingQC.Rcheck/tests/runTests.Rout
R version 4.3.3 (2024-02-29) -- "Angel Food Cake" Copyright (C) 2024 The R Foundation for Statistical Computing Platform: x86_64-pc-linux-gnu (64-bit) R is free software and comes with ABSOLUTELY NO WARRANTY. You are welcome to redistribute it under certain conditions. Type 'license()' or 'licence()' for distribution details. R is a collaborative project with many contributors. Type 'contributors()' for more information and 'citation()' on how to cite R or R packages in publications. Type 'demo()' for some demos, 'help()' for on-line help, or 'help.start()' for an HTML browser interface to help. Type 'q()' to quit R. > require("ribosomeProfilingQC") || stop("unable to load Package:ribosomeProfilingQC") Loading required package: ribosomeProfilingQC Loading required package: GenomicRanges Loading required package: stats4 Loading required package: BiocGenerics Attaching package: 'BiocGenerics' The following objects are masked from 'package:stats': IQR, mad, sd, var, xtabs The following objects are masked from 'package:base': Filter, Find, Map, Position, Reduce, anyDuplicated, aperm, append, as.data.frame, basename, cbind, colnames, dirname, do.call, duplicated, eval, evalq, get, grep, grepl, intersect, is.unsorted, lapply, mapply, match, mget, order, paste, pmax, pmax.int, pmin, pmin.int, rank, rbind, rownames, sapply, setdiff, sort, table, tapply, union, unique, unsplit, which.max, which.min Loading required package: S4Vectors Attaching package: 'S4Vectors' The following object is masked from 'package:utils': findMatches The following objects are masked from 'package:base': I, expand.grid, unname Loading required package: IRanges Loading required package: GenomeInfoDb [1] TRUE > require("GenomicRanges") || stop("unable to load Package::GenomicRanges") [1] TRUE > require("GenomicFeatures") || stop("unable to load Package::GenomicFeatures") Loading required package: GenomicFeatures Loading required package: AnnotationDbi Loading required package: Biobase Welcome to Bioconductor Vignettes contain introductory material; view with 'browseVignettes()'. To cite Bioconductor, see 'citation("Biobase")', and for packages 'citation("pkgname")'. [1] TRUE > require("GenomicAlignments") || stop("unalbe to load Package:GenomicAlignments") Loading required package: GenomicAlignments Loading required package: SummarizedExperiment Loading required package: MatrixGenerics Loading required package: matrixStats Attaching package: 'matrixStats' The following objects are masked from 'package:Biobase': anyMissing, rowMedians Attaching package: 'MatrixGenerics' The following objects are masked from 'package:matrixStats': colAlls, colAnyNAs, colAnys, colAvgsPerRowSet, colCollapse, colCounts, colCummaxs, colCummins, colCumprods, colCumsums, colDiffs, colIQRDiffs, colIQRs, colLogSumExps, colMadDiffs, colMads, colMaxs, colMeans2, colMedians, colMins, colOrderStats, colProds, colQuantiles, colRanges, colRanks, colSdDiffs, colSds, colSums2, colTabulates, colVarDiffs, colVars, colWeightedMads, colWeightedMeans, colWeightedMedians, colWeightedSds, colWeightedVars, rowAlls, rowAnyNAs, rowAnys, rowAvgsPerColSet, rowCollapse, rowCounts, rowCummaxs, rowCummins, rowCumprods, rowCumsums, rowDiffs, rowIQRDiffs, rowIQRs, rowLogSumExps, rowMadDiffs, rowMads, rowMaxs, rowMeans2, rowMedians, rowMins, rowOrderStats, rowProds, rowQuantiles, rowRanges, rowRanks, rowSdDiffs, rowSds, rowSums2, rowTabulates, rowVarDiffs, rowVars, rowWeightedMads, rowWeightedMeans, rowWeightedMedians, rowWeightedSds, rowWeightedVars The following object is masked from 'package:Biobase': rowMedians Loading required package: Biostrings Loading required package: XVector Attaching package: 'Biostrings' The following object is masked from 'package:base': strsplit Loading required package: Rsamtools [1] TRUE > require("utils") || stop("unable to load Package:utils") [1] TRUE > require("AnnotationDbi") || stop("unable to load Package:AnnotationDbi") [1] TRUE > require("BSgenome.Drerio.UCSC.danRer10") || stop("unable to load Package:BSgenome.Drerio.UCSC.danRer10") Loading required package: BSgenome.Drerio.UCSC.danRer10 Loading required package: BSgenome Loading required package: BiocIO Loading required package: rtracklayer Attaching package: 'rtracklayer' The following object is masked from 'package:BiocIO': FileForFormat [1] TRUE > require("Rsamtools") || stop("unable to load Rsamtools") [1] TRUE > require("rtracklayer") || stop("unable to load rtracklayer") [1] TRUE > require("testthat") || stop("unable to load testthat") Loading required package: testthat [1] TRUE > test_check("ribosomeProfilingQC") [ FAIL 0 | WARN 11 | SKIP 0 | PASS 35 ] [ FAIL 0 | WARN 11 | SKIP 0 | PASS 35 ] > > proc.time() user system elapsed 71.444 2.372 73.806
ribosomeProfilingQC.Rcheck/ribosomeProfilingQC-Ex.timings
name | user | system | elapsed | |
FLOSS | 2.902 | 0.151 | 3.081 | |
PAmotif | 0.108 | 0.001 | 0.109 | |
assignReadingFrame | 2.319 | 0.032 | 2.350 | |
codonUsage | 0.427 | 0.004 | 0.431 | |
countReads | 5.946 | 0.199 | 6.148 | |
coverageDepth | 6.436 | 0.308 | 6.744 | |
coverageRates | 8.442 | 0.159 | 8.602 | |
cvgd-class | 0.016 | 0.000 | 0.016 | |
estimatePsite | 2.578 | 0.145 | 2.723 | |
filterCDS | 0.153 | 0.008 | 0.161 | |
frameCounts | 0.077 | 0.000 | 0.078 | |
getFPKM | 0.008 | 0.000 | 0.009 | |
getORFscore | 0.036 | 0.000 | 0.036 | |
getPsiteCoordinates | 0.603 | 0.004 | 0.607 | |
ggBar | 0.172 | 0.000 | 0.172 | |
metaPlot | 0 | 0 | 0 | |
normByRUVs | 0 | 0 | 0 | |
plotDistance2Codon | 0.032 | 0.000 | 0.032 | |
plotFrameDensity | 0.221 | 0.004 | 0.226 | |
plotSpliceEvent | 0 | 0 | 0 | |
plotTE | 0.033 | 0.000 | 0.033 | |
plotTranscript | 0.069 | 0.000 | 0.069 | |
prepareCDS | 0.414 | 0.008 | 0.423 | |
readsDistribution | 12.314 | 0.236 | 12.550 | |
readsEndPlot | 6.845 | 0.196 | 7.040 | |
readsLenToKeep | 0.017 | 0.010 | 0.027 | |
ribosomeReleaseScore | 0 | 0 | 0 | |
shiftReadsByFrame | 4.606 | 0.100 | 4.706 | |
simulateRPF | 1.484 | 0.020 | 1.503 | |
spliceEvent | 0 | 0 | 0 | |
strandPlot | 2.933 | 0.052 | 2.985 | |
summaryReadsLength | 0.135 | 0.000 | 0.135 | |
translationalEfficiency | 0 | 0 | 0 | |