Back to Multiple platform build/check report for BioC 3.12
ABCDEFGHIJKLMNOP[Q]RSTUVWXYZ

BUILD report for quantsmooth on merida1

This page was generated on 2021-02-22 12:44:35 -0500 (Mon, 22 Feb 2021).

To the developers/maintainers of the quantsmooth package:
Please make sure to use the following settings in order to reproduce any error or warning you see on this page.
Package 1434/1974HostnameOS / ArchINSTALLBUILDCHECKBUILD BIN
quantsmooth 1.56.0
Jan Oosting
Snapshot Date: 2021-02-21 14:52:07 -0500 (Sun, 21 Feb 2021)
URL: https://git.bioconductor.org/packages/quantsmooth
Branch: RELEASE_3_12
Last Commit: 6635ed8
Last Changed Date: 2020-10-27 10:29:04 -0500 (Tue, 27 Oct 2020)
malbec1Linux (Ubuntu 18.04.5 LTS) / x86_64  OK    OK    OK  UNNEEDED, same version exists in internal repository
nebbiolo1Linux (Ubuntu 20.04.2 LTS) / x86_64  OK    OK    OK  
tokay1Windows Server 2012 R2 Standard / x64  OK    OK    OK    OK  UNNEEDED, same version exists in internal repository
merida1macOS 10.14.6 Mojave / x86_64  OK    OK    OK    OK  UNNEEDED, same version exists in internal repository

Summary

Package: quantsmooth
Version: 1.56.0
Command: /Library/Frameworks/R.framework/Versions/Current/Resources/bin/R CMD build --keep-empty-dirs --no-resave-data quantsmooth
StartedAt: 2021-02-21 21:34:25 -0500 (Sun, 21 Feb 2021)
EndedAt: 2021-02-21 21:34:39 -0500 (Sun, 21 Feb 2021)
EllapsedTime: 14.5 seconds
RetCode: 0
Status:   OK  
PackageFile: quantsmooth_1.56.0.tar.gz
PackageFileSize: 275.5 KiB

Command output

##############################################################################
##############################################################################
###
### Running command:
###
###   /Library/Frameworks/R.framework/Versions/Current/Resources/bin/R CMD build --keep-empty-dirs --no-resave-data quantsmooth
###
##############################################################################
##############################################################################


* checking for file ‘quantsmooth/DESCRIPTION’ ... OK
* preparing ‘quantsmooth’:
* checking DESCRIPTION meta-information ... OK
* installing the package to build vignettes
* creating vignettes ... OK
* checking for LF line-endings in source and make files and shell scripts
* checking for empty or unneeded directories
* looking to see if a ‘data/datalist’ file should be added
* building ‘quantsmooth_1.56.0.tar.gz’