Back to Multiple platform build/check report for BioC 3.16:   simplified   long
ABCDEFGHIJKLMNO[P]QRSTUVWXYZ

This page was generated on 2023-03-20 11:05:41 -0400 (Mon, 20 Mar 2023).

HostnameOSArch (*)R versionInstalled pkgs
nebbiolo2Linux (Ubuntu 20.04.5 LTS)x86_644.2.2 (2022-10-31) -- "Innocent and Trusting" 4516
palomino4Windows Server 2022 Datacenterx644.2.2 (2022-10-31 ucrt) -- "Innocent and Trusting" 4295
lconwaymacOS 12.5.1 Montereyx86_644.2.2 (2022-10-31) -- "Innocent and Trusting" 4324
Click on any hostname to see more info about the system (e.g. compilers)      (*) as reported by 'uname -p', except on Windows and Mac OS X

BUILD results for phenomis on palomino4


To the developers/maintainers of the phenomis package:
- Please allow up to 24 hours (and sometimes 48 hours) for your latest push to git@git.bioconductor.org:packages/phenomis.git to
reflect on this report. See How and When does the builder pull? When will my changes propagate? for more information.
- Make sure to use the following settings in order to reproduce any error or warning you see on this page.

raw results

Package 1472/2183HostnameOS / ArchINSTALLBUILDCHECKBUILD BIN
phenomis 1.0.2  (landing page)
Etienne A. Thevenot
Snapshot Date: 2023-03-17 14:00:04 -0400 (Fri, 17 Mar 2023)
git_url: https://git.bioconductor.org/packages/phenomis
git_branch: RELEASE_3_16
git_last_commit: 99bb60e
git_last_commit_date: 2022-11-06 08:53:51 -0400 (Sun, 06 Nov 2022)
nebbiolo2Linux (Ubuntu 20.04.5 LTS) / x86_64  OK    OK    OK  UNNEEDED, same version is already published
palomino4Windows Server 2022 Datacenter / x64  OK    OK    OK    OK  UNNEEDED, same version is already published
lconwaymacOS 12.5.1 Monterey / x86_64  OK    OK    OK    OK  UNNEEDED, same version is already published

Summary

Package: phenomis
Version: 1.0.2
Command: chmod a+r phenomis -R && F:\biocbuild\bbs-3.16-bioc\R\bin\R.exe CMD build --keep-empty-dirs --no-resave-data phenomis
StartedAt: 2023-03-17 20:39:50 -0400 (Fri, 17 Mar 2023)
EndedAt: 2023-03-17 20:41:43 -0400 (Fri, 17 Mar 2023)
EllapsedTime: 112.9 seconds
RetCode: 0
Status:   OK  
PackageFile: phenomis_1.0.2.tar.gz
PackageFileSize: 2.31 MiB

Command output

##############################################################################
##############################################################################
###
### Running command:
###
###   chmod a+r phenomis -R && F:\biocbuild\bbs-3.16-bioc\R\bin\R.exe CMD build --keep-empty-dirs --no-resave-data phenomis
###
##############################################################################
##############################################################################


* checking for file 'phenomis/DESCRIPTION' ... OK
* preparing 'phenomis':
* checking DESCRIPTION meta-information ... OK
* installing the package to build vignettes
* creating vignettes ... OK
* checking for LF line-endings in source and make files and shell scripts
* checking for empty or unneeded directories
* building 'phenomis_1.0.2.tar.gz'