Back to Multiple platform build/check report for BioC 3.18:   simplified   long
ABCDEFGHIJKLMNO[P]QRSTUVWXYZ

This page was generated on 2024-02-27 11:36:58 -0500 (Tue, 27 Feb 2024).

HostnameOSArch (*)R versionInstalled pkgs
nebbiolo2Linux (Ubuntu 22.04.3 LTS)x86_644.3.2 Patched (2023-11-13 r85521) -- "Eye Holes" 4691
palomino4Windows Server 2022 Datacenterx644.3.2 (2023-10-31 ucrt) -- "Eye Holes" 4444
lconwaymacOS 12.7.1 Montereyx86_644.3.2 Patched (2023-11-01 r85457) -- "Eye Holes" 4465
Click on any hostname to see more info about the system (e.g. compilers)      (*) as reported by 'uname -p', except on Windows and Mac OS X

Package 1528/2266HostnameOS / ArchINSTALLBUILDCHECKBUILD BIN
periodicDNA 1.12.0  (landing page)
Jacques Serizay
Snapshot Date: 2024-02-26 14:53:20 -0500 (Mon, 26 Feb 2024)
git_url: https://git.bioconductor.org/packages/periodicDNA
git_branch: RELEASE_3_18
git_last_commit: 70bd9f4
git_last_commit_date: 2023-10-24 11:25:19 -0500 (Tue, 24 Oct 2023)
nebbiolo2Linux (Ubuntu 22.04.3 LTS) / x86_64  OK    OK    WARNINGS  UNNEEDED, same version is already published
palomino4Windows Server 2022 Datacenter / x64  OK    OK    WARNINGS    OK  UNNEEDED, same version is already published
lconwaymacOS 12.7.1 Monterey / x86_64  OK    OK    WARNINGS    OK  UNNEEDED, same version is already published
kjohnson1macOS 13.6.1 Ventura / arm64see weekly results here

BUILD results for periodicDNA on palomino4


To the developers/maintainers of the periodicDNA package:
- Allow up to 24 hours (and sometimes 48 hours) for your latest push to git@git.bioconductor.org:packages/periodicDNA.git to reflect on this report. See Troubleshooting Build Report for more information.
- Use the following Renviron settings to reproduce errors and warnings.
- If 'R CMD check' started to fail recently on the Linux builder(s) over a missing dependency, add the missing dependency to 'Suggests:' in your DESCRIPTION file. See Renviron.bioc for more information.

raw results


Summary

Package: periodicDNA
Version: 1.12.0
Command: chmod a+r periodicDNA -R && F:\biocbuild\bbs-3.18-bioc\R\bin\R.exe CMD build --keep-empty-dirs --no-resave-data periodicDNA
StartedAt: 2024-02-26 21:24:33 -0500 (Mon, 26 Feb 2024)
EndedAt: 2024-02-26 21:27:11 -0500 (Mon, 26 Feb 2024)
EllapsedTime: 157.2 seconds
RetCode: 0
Status:   OK  
PackageFile: periodicDNA_1.12.0.tar.gz
PackageFileSize: 2.863 MiB

Command output

##############################################################################
##############################################################################
###
### Running command:
###
###   chmod a+r periodicDNA -R && F:\biocbuild\bbs-3.18-bioc\R\bin\R.exe CMD build --keep-empty-dirs --no-resave-data periodicDNA
###
##############################################################################
##############################################################################


* checking for file 'periodicDNA/DESCRIPTION' ... OK
* preparing 'periodicDNA':
* checking DESCRIPTION meta-information ... OK
* installing the package to build vignettes
* creating vignettes ... OK
* checking for LF line-endings in source and make files and shell scripts
* checking for empty or unneeded directories
* looking to see if a 'data/datalist' file should be added
* building 'periodicDNA_1.12.0.tar.gz'