Name | Last modified | Size | Description | |
---|---|---|---|---|
Parent Directory | - | |||
install-summary.dcf | 24-Jul-2024 22:07 | 262 | ||
buildsrc-summary.dcf | 24-Jul-2024 22:07 | 418 | ||
checksrc-summary.dcf | 24-Jul-2024 22:07 | 431 | ||
buildbin-summary.dcf | 24-Jul-2024 22:07 | 511 | ||
buildsrc-out.txt | 24-Jul-2024 22:07 | 804 | ||
install-out.txt | 24-Jul-2024 22:07 | 1.0K | ||
buildbin-out.txt | 24-Jul-2024 22:07 | 1.1K | ||
checksrc-out.txt | 24-Jul-2024 22:07 | 4.3K | ||