Index of /checkResults/release/bioc-LATEST/mzID/raw-results

[ICO]NameLast modifiedSizeDescription

[DIR]Parent Directory  -  
[   ]info.dcf28-May-2022 01:08 272  
[DIR]merida1/28-May-2022 01:08 -  
[DIR]nebbiolo1/28-May-2022 01:05 -  
[DIR]palomino3/28-May-2022 01:06 -  
[DIR]riesling1/19-Mar-2022 00:08 -